{"text_format":"1","workbook":"xlsx","n_sheets":4,"sheets":["入力シート","様式７","様式２（正）","様式２（副）"],"not_rendered":{"charts":0,"images":0,"macros":1,"external_links":0,"defined_names":3,"comments":0,"pivot_tables":0},"unopened":[],"bounds":{"document_bytes":16777216,"sheet_cells":100000,"rows_first":2000,"rows_last":500,"rows_between":2000,"halvings":0,"cell_chars":16384,"cell_head_chars":4096},"cells_cut":0,"cells_raw":0,"read":"whole","date_system":"1900"}

{"sheet":"入力シート","index":0,"n_rows":17,"n_cols":13,"rows_kept":17,"cut":false,"hidden":false,"merged":[[6,1,6,2],[7,1,7,2],[1,1,1,2],[2,1,2,2],[3,1,3,2],[5,1,5,2],[15,1,15,2],[16,1,16,2],[8,1,8,5],[9,1,9,5],[13,1,13,5],[14,1,14,5]]}
[]
["車名","トヨタ"]
["型式","ＲＢ２６改"]
["車台番号","ＲＢ２６－４３２１４１"]
["自動車の大きさ"]
["長さ",523,null,"センチメートル"]
["幅",234,null,"センチメートル"]
["高さ",235,null,"センチメートル"]
["自動車の使用の本拠の位置","那覇市泉崎１丁目２番２号"]
["自動車の保管場所の位置","那覇市泉崎１丁目２番２号"]
[]
["届出日","令和","30","年","4","月","13","日"]
["届出者",null,null,null,null,null,null,"郵便番号","903","-","1234"]
["住所","那覇市泉崎１丁目２番２号",null,null,null,null,null,"電話番号","090","-","1234","-","5678"]
["（アパート名等）","沖縄県警察本部交通部交通規制課"]
["フリガナ","オキナワ　タロウ"]
["氏名","沖縄 太郎"]

{"sheet":"様式７","index":1,"n_rows":34,"n_cols":21,"rows_kept":34,"cut":false,"hidden":false,"merged":[[29,1,29,22],[33,1,33,21],[32,1,32,21],[2,0,2,12],[2,19,2,21],[2,13,2,18],[8,0,9,2],[9,3,9,21],[28,1,28,21],[30,1,30,21],[31,1,31,21],[22,1,22,21],[23,1,23,21],[24,1,24,21],[25,1,25,21],[26,1,26,21],[34,1,34,21],[35,1,35,21],[36,2,36,6],[36,9,38,10],[36,11,38,21],[37,2,37,6],[38,2,38,6],[27,1,27,21],[20,0,21,0],[21,1,21,21],[13,0,13,2],[14,6,14,21],[15,6,15,21],[16,12,16,14],[16,16,16,17],[18,5,19,5],[18,6,19,17],[7,0,7,2],[7,3,7,21],[8,3,8,21],[10,0,10,2],[10,3,10,21],[4,19,4,21],[4,23,22,23],[5,11,5,13],[5,14,5,18],[5,19,5,21],[6,11,6,13],[17,6,17,17],[12,11,12,12],[12,15,12,17],[0,11,0,12],[0,13,0,15],[0,16,0,18],[0,20,0,21],[11,0,11,18],[4,14,4,18],[3,0,3,1],[3,2,3,3],[3,4,3,10],[3,11,3,21],[6,14,6,18],[6,19,6,21],[4,0,6,1],[4,2,6,3],[4,4,6,10],[4,11,4,13]]}
["様式第７号（第６関係）"]
[]
["自　　動　　車　　保　　管　　場　　所　　届　　出　　書　（　新　規　・　変　更　）",null,null,null,null,null,null,null,null,null,null,null,null,"自動車の区分",null,null,null,null,null,"登録・軽"]
["車　　　　　　　　名",null,"型　　　　　　　　式",null,"車　　　台　　　番　　　号",null,null,null,null,null,null,"自　　動　　車　　の　　大　　き　　さ"]
[{"$f":"入力シート!B2","v":"トヨタ"},null,{"$f":"入力シート!B3","v":"ＲＢ２６改"},null,{"$f":"入力シート!B4","v":"ＲＢ２６－４３２１４１"},null,null,null,null,null,null,"長さ",null,null,{"$f":"入力シート!B6","v":523},null,null,null,null,"センチメートル"]
[null,null,null,null,null,null,null,null,null,null,null,"幅　",null,null,{"$f":"入力シート!B7","v":234},null,null,null,null,"センチメートル"]
[null,null,null,null,null,null,null,null,null,null,null,"高さ",null,null,{"$f":"入力シート!B8","v":235},null,null,null,null,"センチメートル"]
["自 動 車 の 使 用 の 本 拠 の 位 置",null,null,{"$f":"入力シート!B9","v":"那覇市泉崎１丁目２番２号"}]
["自 動 車 の 保 管 場 所 の 位 置",null,null,{"$f":"入力シート!B10","v":"那覇市泉崎１丁目２番２号"}]
[null,null,null,"（変更前　　　　　　　　　　　　　　　　　　　　　　　　　　　　　　　　　　　　）"]
["※　保　管　場　所　標　章　番　号"]
["　　 上記の事項について届出をします。"]
[null,null,null,null,null,null,null,null,null,null,{"$f":"入力シート!B12","v":"令和"},{"$f":"入力シート!C12","v":"30"},null,null,"年",{"$f":"入力シート!E12","v":"4"},null,null,"月",{"$f":"入力シート!G12","v":"13"},"日"]
["　　　　警察署長　殿",null,null,null,null,null,"〒","(",{"$f":"入力シート!I13","v":"903"},"-",{"$f":"入力シート!K13","v":"1234"},")"]
[null,null,null,null,"届出者","住所",{"$f":"入力シート!B14","v":"那覇市泉崎１丁目２番２号"}]
[null,null,null,null,null,null,{"$f":"入力シート!B15","v":"沖縄県警察本部交通部交通規制課"}]
[null,null,null,null,null,null,null,null,null,null,null,"（",{"$f":"入力シート!I14","v":"090"},null,null,"）",{"$f":"入力シート!K14","v":"1234"},null,"局",{"$f":"入力シート!M14","v":"5678"},"番"]
[null,null,null,null,null,"フリガナ",{"$f":"入力シート!B16","v":"オキナワ　タロウ"}]
[null,null,null,null,null,"氏名",{"$f":"入力シート!B17","v":"沖縄 太郎"}]
[]
["備考"]
[null,"　１　法第５条、第13条第３項及び附則第７項の規定による届出にあっては「新規」の文字を、法第７条第１項（第13条第４項及び附則第８項において準用する"]
[null,"   場合を含む。）の規定による届出（以下「変更届出」という。）にあっては「変更」の文字を○で囲むこと。　　"]
[null,"　２　自動車の区分の欄は、　法第４条第１項の処分に係る自動車の届出にあっては「登録」の文字を、軽自動車である自動車の届出にあっては「軽」の文字を○"]
[null,"　　で囲むこと。"]
[null,"　３　変更届出をする場合において、自動車の保管場所の位置欄には変更後の自動車の保管場所の位置を記入するほか、同欄括弧内に変更前の自動車の保管場所"]
[null,"　　の位置を記入すること。"]
[null,"　４　次に掲げる場合は、所在図の添付を省略することができる。"]
[null," 　(1)　自動車の使用の本拠の位置が、旧自動車（届出者が保有者であり、又は保有者であった自動車であって届出に係るもの以外のものをいう。以下同じ。）に"]
[null,"　　　係る使用の本拠の位置と同一であり、かつ、届出に係る場所が旧自動車の保管場所とされており、又は当該届出の日前15日以内に保管場所とされていたとき。"]
[null," 　(2)　自動車の使用の本拠の位置が、保管場所の位置と同一であるとき（(1)に該当する場合を除く。）。"]
[null,"　５　４(1)に該当することにより所在図の添付を省略する場合は、※印の欄に旧自動車に表示され、又は当該届出の日前15日以内に表示されていた保管場所標章"]
[null,"　　に係る保管場所標章番号を記載すること。"]
[null,"　６　用紙の大きさは、日本産業規格Ａ列４番とする。"]

{"sheet":"様式２（正）","index":2,"n_rows":27,"n_cols":28,"rows_kept":27,"cut":false,"hidden":false,"merged":[[0,12,0,13],[0,14,0,16],[0,17,0,20],[0,21,0,23],[0,26,0,27],[2,0,2,27],[3,0,3,1],[3,2,3,3],[3,4,3,13],[3,14,3,27],[4,0,6,1],[4,2,6,3],[4,4,6,13],[4,14,4,17],[4,18,4,23],[4,24,4,27],[5,14,5,17],[5,18,5,23],[5,24,5,27],[6,14,6,17],[6,18,6,23],[6,24,6,27],[7,0,7,2],[7,3,7,27],[8,0,8,2],[8,3,8,27],[10,0,10,23],[11,13,11,17],[11,19,11,22],[11,24,11,25],[12,0,12,2],[12,9,12,10],[12,12,12,15],[16,7,16,22],[17,6,18,6],[17,7,18,22],[19,0,19,1],[13,7,13,27],[14,7,14,27],[15,16,15,18],[15,20,15,23],[15,25,15,26],[20,0,20,27],[21,0,21,27],[22,2,22,3],[22,5,22,6],[22,7,22,9],[22,11,22,12],[22,13,22,14],[22,15,22,16],[22,17,22,19],[22,20,22,22],[23,4,23,13],[23,14,24,23],[23,25,24,25],[25,0,26,0],[26,1,26,27],[27,1,27,27],[28,1,28,27],[29,2,29,7],[29,11,31,13],[29,14,31,27],[30,2,30,7],[31,2,31,7]]}
["様式第２号（第６関係）"]
[]
["保　　管　　場　　所　　標　　章　　交　　付　　申　　請　　書"]
["車　　　　　　　　　名",null,"型　 　　　　　　　式",null,"車　　　台　　　番　　　号",null,null,null,null,null,null,null,null,null,"自　　動　　車　　の　　大　　き　　さ"]
[{"$f":"入力シート!B2","v":"トヨタ"},null,{"$f":"入力シート!B3","v":"ＲＢ２６改"},null,{"$f":"入力シート!B4","v":"ＲＢ２６－４３２１４１"},null,null,null,null,null,null,null,null,null,"長さ",null,null,null,{"$f":"入力シート!B6","v":523},null,null,null,null,null,"センチメートル"]
[null,null,null,null,null,null,null,null,null,null,null,null,null,null,"幅　",null,null,null,{"$f":"入力シート!B7","v":234},null,null,null,null,null,"センチメートル"]
[null,null,null,null,null,null,null,null,null,null,null,null,null,null,"高さ",null,null,null,{"$f":"入力シート!B8","v":235},null,null,null,null,null,"センチメートル"]
["自 動 車 の 使 用 の 本 拠 の 位 置",null,null,{"$f":"入力シート!B9","v":"那覇市泉崎１丁目２番２号"}]
["自 動 車 の 保 管 場 所 の 位 置",null,null,{"$f":"入力シート!B10","v":"那覇市泉崎１丁目２番２号"}]
[]
["　　 私は上記の自動車の保有者であるので、保管場所標章の交付を申請します。"]
[null,null,null,null,null,null,null,null,null,null,null,null,null,null,null,null,null,null,"年",null,null,null,null,"月",null,null,"日"]
["　　　　警察署長　殿",null,null,null,null,null,null,"〒","（",{"$f":"入力シート!I13","v":"903"},null,"‐",{"$f":"入力シート!K13","v":"1234"},null,null,null,"）"]
[null,null,null,null,"申請者",null,"住 所",{"$f":"入力シート!B14","v":"那覇市泉崎１丁目２番２号"}]
[null,null,null,null,null,null,null,{"$f":"入力シート!B15","v":"沖縄県警察本部交通部交通規制課"}]
[null,null,null,null,null,null,null,null,null,null,null,null,null,null,null,"（",{"$f":"入力シート!I14","v":"090"},null,null,"）",{"$f":"入力シート!K14","v":"1234"},null,null,null,"局",{"$f":"入力シート!M14","v":"5678"},null,"番"]
[null,null,null,null,null,null,"フリガナ",{"$f":"入力シート!B16","v":"オキナワ　タロウ"}]
[null,null,null,null,null,null,"氏 名",{"$f":"入力シート!B17","v":"沖縄 太郎"}]
[]
["第　　　　　　　　　号"]
["保　管　場　所　標　章　番　号　通　知　書"]
["　　 上記に記載された自動車に係る保管場所標章番号を通知します。"]
[null,null,"保管場所標章番号"]
[null,null,null,null,"年　　　　 月　　　　 日",null,null,null,null,null,null,null,null,null,"警察署長",null,null,null,null,null,null,null,null,null,null," 印"]
[]
["備考"]
[null,"用紙の大きさは、日本産業規格Ａ列４番とする。"]

{"sheet":"様式２（副）","index":3,"n_rows":27,"n_cols":30,"rows_kept":27,"cut":false,"hidden":false,"merged":[[0,12,0,13],[0,14,0,16],[0,17,0,20],[0,21,0,23],[0,26,0,27],[2,0,2,27],[3,0,3,1],[3,2,3,3],[3,4,3,13],[3,14,3,27],[4,0,6,1],[4,2,6,3],[4,4,6,13],[4,14,4,17],[4,18,4,23],[4,24,4,27],[4,29,21,29],[5,14,5,17],[5,18,5,23],[5,24,5,27],[6,14,6,17],[6,18,6,23],[6,24,6,27],[16,7,16,22],[15,25,15,26],[11,13,11,17],[11,19,11,22],[11,24,11,25],[15,16,15,18],[15,20,15,23],[7,0,7,2],[7,3,7,27],[8,0,8,2],[8,3,8,27],[10,0,10,23],[12,0,12,2],[12,9,12,10],[12,12,12,15],[13,7,13,27],[14,7,14,27],[17,6,18,6],[17,7,18,22],[22,17,22,19],[22,20,22,22],[19,0,19,1],[20,0,20,27],[21,0,21,27],[25,0,26,0],[26,1,26,27],[22,11,22,12],[22,13,22,14],[22,15,22,16],[22,2,22,3],[22,5,22,6],[22,7,22,9],[27,1,27,27],[28,1,28,27],[23,4,23,13],[23,14,24,23],[23,25,24,25],[29,2,29,7],[29,11,31,13],[29,14,31,27],[30,2,30,7],[31,2,31,7]]}
["様式第２号（第６関係）"]
[]
["保　　管　　場　　所　　標　　章　　交　　付　　申　　請　　書"]
["車　　　　　　　　　名",null,"型　 　　　　　　　式",null,"車　　　台　　　番　　　号",null,null,null,null,null,null,null,null,null,"自　　動　　車　　の　　大　　き　　さ"]
[{"$f":"入力シート!B2","v":"トヨタ"},null,{"$f":"入力シート!B3","v":"ＲＢ２６改"},null,{"$f":"入力シート!B4","v":"ＲＢ２６－４３２１４１"},null,null,null,null,null,null,null,null,null,"長さ",null,null,null,{"$f":"入力シート!B6","v":523},null,null,null,null,null,"センチメートル",null,null,null,null,"沖縄県証紙貼付"]
[null,null,null,null,null,null,null,null,null,null,null,null,null,null,"幅　",null,null,null,{"$f":"入力シート!B7","v":234},null,null,null,null,null,"センチメートル"]
[null,null,null,null,null,null,null,null,null,null,null,null,null,null,"高さ",null,null,null,{"$f":"入力シート!B8","v":235},null,null,null,null,null,"センチメートル"]
["自 動 車 の 使 用 の 本 拠 の 位 置",null,null,{"$f":"入力シート!B9","v":"那覇市泉崎１丁目２番２号"}]
["自 動 車 の 保 管 場 所 の 位 置",null,null,{"$f":"入力シート!B10","v":"那覇市泉崎１丁目２番２号"}]
[]
["　　 私は上記の自動車の保有者であるので、保管場所標章の交付を申請します。"]
[null,null,null,null,null,null,null,null,null,null,null,null,null,null,null,null,null,null,"年",null,null,null,null,"月",null,null,"日"]
["　　　　警察署長　殿",null,null,null,null,null,null,"〒","（",{"$f":"入力シート!I13","v":"903"},null,"‐",{"$f":"入力シート!K13","v":"1234"},null,null,null,"）"]
[null,null,null,null,"申請者",null,"住 所",{"$f":"入力シート!B14","v":"那覇市泉崎１丁目２番２号"}]
[null,null,null,null,null,null,null,{"$f":"入力シート!B15","v":"沖縄県警察本部交通部交通規制課"}]
[null,null,null,null,null,null,null,null,null,null,null,null,null,null,null,"（",{"$f":"入力シート!I14","v":"090"},null,null,"）",{"$f":"入力シート!K14","v":"1234"},null,null,null,"局",{"$f":"入力シート!M14","v":"5678"},null,"番"]
[null,null,null,null,null,null,"フリガナ",{"$f":"入力シート!B16","v":"オキナワ　タロウ"}]
[null,null,null,null,null,null,"氏 名",{"$f":"入力シート!B17","v":"沖縄 太郎"}]
[]
["第　　　　　　　　　号"]
["保　管　場　所　標　章　番　号　通　知　書"]
["　　 上記に記載された自動車に係る保管場所標章番号を通知します。"]
[null,null,"保管場所標章番号"]
[null,null,null,null,"年　　　　 月　　　　 日",null,null,null,null,null,null,null,null,null,"警察署長",null,null,null,null,null,null,null,null,null,null," 印"]
[]
["備考"]
[null,"用紙の大きさは、日本産業規格Ａ列４番とする。"]